Package: RegEnrich Version: 1.10.0 Command: /home/biocbuild/bbs-3.17-bioc/R/bin/R CMD check --install=check:RegEnrich.install-out.txt --library=/home/biocbuild/bbs-3.17-bioc/R/site-library --timings RegEnrich_1.10.0.tar.gz StartedAt: 2023-10-16 00:19:21 -0400 (Mon, 16 Oct 2023) EndedAt: 2023-10-16 00:23:48 -0400 (Mon, 16 Oct 2023) EllapsedTime: 267.3 seconds RetCode: 1 Status: ERROR CheckDir: RegEnrich.Rcheck Warnings: NA