Package: RegEnrich Version: 1.10.0 Command: /Library/Frameworks/R.framework/Resources/bin/R CMD check --install=check:RegEnrich.install-out.txt --library=/Library/Frameworks/R.framework/Resources/library --no-vignettes --timings RegEnrich_1.10.0.tar.gz StartedAt: 2023-10-16 05:55:41 -0400 (Mon, 16 Oct 2023) EndedAt: 2023-10-16 06:06:22 -0400 (Mon, 16 Oct 2023) EllapsedTime: 641.2 seconds RetCode: 0 Status: OK CheckDir: RegEnrich.Rcheck Warnings: 0