Package: RefPlus Version: 1.70.0 Command: F:\biocbuild\bbs-3.17-bioc\R\bin\R.exe CMD check --no-multiarch --install=check:RefPlus.install-out.txt --library=F:\biocbuild\bbs-3.17-bioc\R\library --no-vignettes --timings RefPlus_1.70.0.tar.gz StartedAt: 2023-10-16 05:49:48 -0400 (Mon, 16 Oct 2023) EndedAt: 2023-10-16 05:51:01 -0400 (Mon, 16 Oct 2023) EllapsedTime: 73.7 seconds RetCode: 0 Status: OK CheckDir: RefPlus.Rcheck Warnings: 0