Package: RefPlus Version: 1.70.0 Command: chmod a+r RefPlus -R && F:\biocbuild\bbs-3.17-bioc\R\bin\R.exe CMD build --keep-empty-dirs --no-resave-data RefPlus StartedAt: 2023-10-15 21:43:20 -0400 (Sun, 15 Oct 2023) EndedAt: 2023-10-15 21:43:55 -0400 (Sun, 15 Oct 2023) EllapsedTime: 35.0 seconds RetCode: 0 Status: OK PackageFile: RefPlus_1.70.0.tar.gz PackageFileSize: 1.356 MiB