Package: RefPlus Version: 1.70.0 Command: rm -rf RefPlus.buildbin-libdir && mkdir RefPlus.buildbin-libdir && F:\biocbuild\bbs-3.17-bioc\R\bin\R.exe CMD INSTALL --build --library=RefPlus.buildbin-libdir RefPlus_1.70.0.tar.gz StartedAt: 2023-10-16 09:21:51 -0400 (Mon, 16 Oct 2023) EndedAt: 2023-10-16 09:22:07 -0400 (Mon, 16 Oct 2023) EllapsedTime: 15.8 seconds RetCode: 0 Status: OK PackageFile: RefPlus_1.70.0.zip PackageFileSize: 716.4 KiB