Package: RefPlus Version: 1.70.0 Command: /home/biocbuild/bbs-3.17-bioc/R/bin/R CMD build --keep-empty-dirs --no-resave-data RefPlus StartedAt: 2023-10-15 18:09:21 -0400 (Sun, 15 Oct 2023) EndedAt: 2023-10-15 18:09:51 -0400 (Sun, 15 Oct 2023) EllapsedTime: 29.3 seconds RetCode: 0 Status: OK PackageFile: RefPlus_1.70.0.tar.gz PackageFileSize: 1.353 MiB