Package: RefPlus Version: 1.70.0 Command: /Library/Frameworks/R.framework/Resources/bin/R CMD build --keep-empty-dirs --no-resave-data RefPlus StartedAt: 2023-10-15 20:36:49 -0400 (Sun, 15 Oct 2023) EndedAt: 2023-10-15 20:37:53 -0400 (Sun, 15 Oct 2023) EllapsedTime: 64.5 seconds RetCode: 0 Status: OK PackageFile: RefPlus_1.70.0.tar.gz PackageFileSize: 1.52 MiB