Package: RefPlus Version: 1.70.0 Command: rm -rf RefPlus.buildbin-libdir && mkdir RefPlus.buildbin-libdir && /Users/biocbuild/BBS/utils/build-universal.sh RefPlus_1.70.0.tar.gz /Library/Frameworks/R.framework/Resources/bin/R RefPlus.buildbin-libdir StartedAt: 2023-10-16 10:01:47 -0400 (Mon, 16 Oct 2023) EndedAt: 2023-10-16 10:02:29 -0400 (Mon, 16 Oct 2023) EllapsedTime: 42.0 seconds RetCode: 0 Status: OK PackageFile: RefPlus_1.70.0.tgz PackageFileSize: 881.7 KiB