Package: RedisParam Version: 1.2.0 Command: rm -rf RedisParam.buildbin-libdir && mkdir RedisParam.buildbin-libdir && F:\biocbuild\bbs-3.17-bioc\R\bin\R.exe CMD INSTALL --build --library=RedisParam.buildbin-libdir RedisParam_1.2.0.tar.gz StartedAt: 2023-10-16 09:21:48 -0400 (Mon, 16 Oct 2023) EndedAt: 2023-10-16 09:21:58 -0400 (Mon, 16 Oct 2023) EllapsedTime: 10.0 seconds RetCode: 0 Status: OK PackageFile: RedisParam_1.2.0.zip PackageFileSize: 1.004 MiB