Package: RedisParam Version: 1.2.0 Command: /home/biocbuild/bbs-3.17-bioc/R/bin/R CMD build --keep-empty-dirs --no-resave-data RedisParam StartedAt: 2023-10-15 18:09:15 -0400 (Sun, 15 Oct 2023) EndedAt: 2023-10-15 18:09:21 -0400 (Sun, 15 Oct 2023) EllapsedTime: 6.3 seconds RetCode: 0 Status: OK PackageFile: RedisParam_1.2.0.tar.gz PackageFileSize: 950.5 KiB