Package: RedisParam Version: 1.2.0 Command: /Library/Frameworks/R.framework/Resources/bin/R CMD INSTALL RedisParam StartedAt: 2023-10-15 15:32:21 -0400 (Sun, 15 Oct 2023) EndedAt: 2023-10-15 15:32:46 -0400 (Sun, 15 Oct 2023) EllapsedTime: 24.9 seconds RetCode: 0 Status: OK