Package: RedeR Version: 2.4.3 Command: F:\biocbuild\bbs-3.17-bioc\R\bin\R.exe CMD INSTALL RedeR StartedAt: 2023-10-15 15:49:56 -0400 (Sun, 15 Oct 2023) EndedAt: 2023-10-15 15:50:18 -0400 (Sun, 15 Oct 2023) EllapsedTime: 22.0 seconds RetCode: 0 Status: OK