Package: RedeR Version: 2.4.3 Command: chmod a+r RedeR -R && F:\biocbuild\bbs-3.17-bioc\R\bin\R.exe CMD build --keep-empty-dirs --no-resave-data RedeR StartedAt: 2023-10-15 21:43:10 -0400 (Sun, 15 Oct 2023) EndedAt: 2023-10-15 21:44:30 -0400 (Sun, 15 Oct 2023) EllapsedTime: 80.0 seconds RetCode: 0 Status: OK PackageFile: RedeR_2.4.3.tar.gz PackageFileSize: 8.394 MiB