Package: RedeR Version: 2.4.3 Command: /Library/Frameworks/R.framework/Resources/bin/R CMD check --install=check:RedeR.install-out.txt --library=/Library/Frameworks/R.framework/Resources/library --no-vignettes --timings RedeR_2.4.3.tar.gz StartedAt: 2023-10-16 05:54:46 -0400 (Mon, 16 Oct 2023) EndedAt: 2023-10-16 05:56:26 -0400 (Mon, 16 Oct 2023) EllapsedTime: 99.7 seconds RetCode: 0 Status: OK CheckDir: RedeR.Rcheck Warnings: 0