Package: RedeR Version: 2.4.3 Command: rm -rf RedeR.buildbin-libdir && mkdir RedeR.buildbin-libdir && /Users/biocbuild/BBS/utils/build-universal.sh RedeR_2.4.3.tar.gz /Library/Frameworks/R.framework/Resources/bin/R RedeR.buildbin-libdir StartedAt: 2023-10-16 10:01:39 -0400 (Mon, 16 Oct 2023) EndedAt: 2023-10-16 10:02:05 -0400 (Mon, 16 Oct 2023) EllapsedTime: 26.1 seconds RetCode: 0 Status: OK PackageFile: RedeR_2.4.3.tgz PackageFileSize: 7.197 MiB