Package: ReadqPCR Version: 1.46.0 Command: F:\biocbuild\bbs-3.17-bioc\R\bin\R.exe CMD INSTALL ReadqPCR StartedAt: 2023-10-15 15:50:11 -0400 (Sun, 15 Oct 2023) EndedAt: 2023-10-15 15:50:24 -0400 (Sun, 15 Oct 2023) EllapsedTime: 12.7 seconds RetCode: 0 Status: OK