Package: ReadqPCR Version: 1.46.0 Command: chmod a+r ReadqPCR -R && F:\biocbuild\bbs-3.17-bioc\R\bin\R.exe CMD build --keep-empty-dirs --no-resave-data ReadqPCR StartedAt: 2023-10-15 21:42:21 -0400 (Sun, 15 Oct 2023) EndedAt: 2023-10-15 21:42:37 -0400 (Sun, 15 Oct 2023) EllapsedTime: 16.2 seconds RetCode: 0 Status: OK PackageFile: ReadqPCR_1.46.0.tar.gz PackageFileSize: 388.1 KiB