Package: ReadqPCR Version: 1.46.0 Command: /home/biocbuild/bbs-3.17-bioc/R/bin/R CMD INSTALL ReadqPCR StartedAt: 2023-10-15 15:08:31 -0400 (Sun, 15 Oct 2023) EndedAt: 2023-10-15 15:08:44 -0400 (Sun, 15 Oct 2023) EllapsedTime: 13.4 seconds RetCode: 0 Status: OK