Package: ReadqPCR Version: 1.46.0 Command: /home/biocbuild/bbs-3.17-bioc/R/bin/R CMD build --keep-empty-dirs --no-resave-data ReadqPCR StartedAt: 2023-10-15 18:08:46 -0400 (Sun, 15 Oct 2023) EndedAt: 2023-10-15 18:08:53 -0400 (Sun, 15 Oct 2023) EllapsedTime: 6.9 seconds RetCode: 0 Status: OK PackageFile: ReadqPCR_1.46.0.tar.gz PackageFileSize: 386.9 KiB