Package: ReadqPCR Version: 1.46.0 Command: /Library/Frameworks/R.framework/Resources/bin/R CMD build --keep-empty-dirs --no-resave-data ReadqPCR StartedAt: 2023-10-15 20:35:51 -0400 (Sun, 15 Oct 2023) EndedAt: 2023-10-15 20:36:14 -0400 (Sun, 15 Oct 2023) EllapsedTime: 23.8 seconds RetCode: 0 Status: OK PackageFile: ReadqPCR_1.46.0.tar.gz PackageFileSize: 491.3 KiB