Package: ReadqPCR Version: 1.46.0 Command: rm -rf ReadqPCR.buildbin-libdir && mkdir ReadqPCR.buildbin-libdir && /Users/biocbuild/BBS/utils/build-universal.sh ReadqPCR_1.46.0.tar.gz /Library/Frameworks/R.framework/Resources/bin/R ReadqPCR.buildbin-libdir StartedAt: 2023-10-16 10:01:16 -0400 (Mon, 16 Oct 2023) EndedAt: 2023-10-16 10:01:29 -0400 (Mon, 16 Oct 2023) EllapsedTime: 12.5 seconds RetCode: 0 Status: OK PackageFile: ReadqPCR_1.46.0.tgz PackageFileSize: 567 KiB