Package: ReactomeGraph4R Version: 1.8.0 Command: /home/biocbuild/bbs-3.17-bioc/R/bin/R CMD build --keep-empty-dirs --no-resave-data ReactomeGraph4R StartedAt: 2023-10-15 18:08:37 -0400 (Sun, 15 Oct 2023) EndedAt: 2023-10-15 18:08:48 -0400 (Sun, 15 Oct 2023) EllapsedTime: 10.9 seconds RetCode: 0 Status: OK PackageFile: ReactomeGraph4R_1.8.0.tar.gz PackageFileSize: 941.5 KiB