Package: ReactomeGraph4R Version: 1.8.0 Command: /Library/Frameworks/R.framework/Resources/bin/R CMD check --install=check:ReactomeGraph4R.install-out.txt --library=/Library/Frameworks/R.framework/Resources/library --no-vignettes --timings ReactomeGraph4R_1.8.0.tar.gz StartedAt: 2023-10-16 05:53:16 -0400 (Mon, 16 Oct 2023) EndedAt: 2023-10-16 05:54:46 -0400 (Mon, 16 Oct 2023) EllapsedTime: 90.2 seconds RetCode: 0 Status: OK CheckDir: ReactomeGraph4R.Rcheck Warnings: 0