Package: ReactomeGraph4R Version: 1.8.0 Command: /Library/Frameworks/R.framework/Resources/bin/R CMD build --keep-empty-dirs --no-resave-data ReactomeGraph4R StartedAt: 2023-10-15 20:35:23 -0400 (Sun, 15 Oct 2023) EndedAt: 2023-10-15 20:35:51 -0400 (Sun, 15 Oct 2023) EllapsedTime: 27.8 seconds RetCode: 0 Status: OK PackageFile: ReactomeGraph4R_1.8.0.tar.gz PackageFileSize: 941.2 KiB