Package: ReactomeGSA Version: 1.14.0 Command: /home/biocbuild/bbs-3.17-bioc/R/bin/R CMD build --keep-empty-dirs --no-resave-data ReactomeGSA StartedAt: 2023-10-15 18:08:44 -0400 (Sun, 15 Oct 2023) EndedAt: 2023-10-15 18:12:06 -0400 (Sun, 15 Oct 2023) EllapsedTime: 201.9 seconds RetCode: 0 Status: OK PackageFile: ReactomeGSA_1.14.0.tar.gz PackageFileSize: 233.7 KiB