Package: ReactomeGSA Version: 1.14.0 Command: rm -rf ReactomeGSA.buildbin-libdir && mkdir ReactomeGSA.buildbin-libdir && /Users/biocbuild/BBS/utils/build-universal.sh ReactomeGSA_1.14.0.tar.gz /Library/Frameworks/R.framework/Resources/bin/R ReactomeGSA.buildbin-libdir StartedAt: 2023-10-16 10:01:15 -0400 (Mon, 16 Oct 2023) EndedAt: 2023-10-16 10:01:37 -0400 (Mon, 16 Oct 2023) EllapsedTime: 21.8 seconds RetCode: 0 Status: OK PackageFile: ReactomeGSA_1.14.0.tgz PackageFileSize: 547.9 KiB