Package: ReactomeContentService4R Version: 1.8.0 Command: rm -rf ReactomeContentService4R.buildbin-libdir && mkdir ReactomeContentService4R.buildbin-libdir && F:\biocbuild\bbs-3.17-bioc\R\bin\R.exe CMD INSTALL --build --library=ReactomeContentService4R.buildbin-libdir ReactomeContentService4R_1.8.0.tar.gz StartedAt: 2023-10-16 09:21:23 -0400 (Mon, 16 Oct 2023) EndedAt: 2023-10-16 09:21:36 -0400 (Mon, 16 Oct 2023) EllapsedTime: 12.3 seconds RetCode: 0 Status: OK PackageFile: ReactomeContentService4R_1.8.0.zip PackageFileSize: 1.156 MiB