Package: ReactomeContentService4R Version: 1.8.0 Command: /home/biocbuild/bbs-3.17-bioc/R/bin/R CMD build --keep-empty-dirs --no-resave-data ReactomeContentService4R StartedAt: 2023-10-15 18:08:35 -0400 (Sun, 15 Oct 2023) EndedAt: 2023-10-15 18:09:31 -0400 (Sun, 15 Oct 2023) EllapsedTime: 55.3 seconds RetCode: 0 Status: OK PackageFile: ReactomeContentService4R_1.8.0.tar.gz PackageFileSize: 2.279 MiB