Package: ReactomeContentService4R Version: 1.8.0 Command: /Library/Frameworks/R.framework/Resources/bin/R CMD build --keep-empty-dirs --no-resave-data ReactomeContentService4R StartedAt: 2023-10-15 20:35:22 -0400 (Sun, 15 Oct 2023) EndedAt: 2023-10-15 20:36:30 -0400 (Sun, 15 Oct 2023) EllapsedTime: 68.2 seconds RetCode: 0 Status: OK PackageFile: ReactomeContentService4R_1.8.0.tar.gz PackageFileSize: 2.278 MiB