############################################################################## ############################################################################## ### ### Running command: ### ### chmod a+r ReUseData -R && F:\biocbuild\bbs-3.17-bioc\R\bin\R.exe CMD build --keep-empty-dirs --no-resave-data ReUseData ### ############################################################################## ############################################################################## * checking for file 'ReUseData/DESCRIPTION' ... OK * preparing 'ReUseData': * checking DESCRIPTION meta-information ... OK * installing the package to build vignettes ----------------------------------- ERROR: dependencies 'Rcwl', 'RcwlPipelines' are not available for package 'ReUseData' * removing 'F:/biocbuild/bbs-3.17-bioc/tmpdir/Rtmp6NL7Is/Rinst2d4865e47219/ReUseData' ----------------------------------- ERROR: package installation failed