Package: ReUseData Version: 1.0.1 Command: /home/biocbuild/bbs-3.17-bioc/R/bin/R CMD INSTALL ReUseData StartedAt: 2023-10-15 15:46:57 -0400 (Sun, 15 Oct 2023) EndedAt: 2023-10-15 15:47:11 -0400 (Sun, 15 Oct 2023) EllapsedTime: 14.5 seconds RetCode: 0 Status: OK