Package: ReUseData Version: 1.0.1 Command: /Library/Frameworks/R.framework/Resources/bin/R CMD INSTALL ReUseData StartedAt: 2023-10-15 16:26:52 -0400 (Sun, 15 Oct 2023) EndedAt: 2023-10-15 16:27:41 -0400 (Sun, 15 Oct 2023) EllapsedTime: 49.3 seconds RetCode: 0 Status: OK