Package: ReUseData Version: 1.0.0 Command: rm -rf ReUseData.buildbin-libdir && mkdir ReUseData.buildbin-libdir && /Users/biocbuild/BBS/utils/build-universal.sh ReUseData_1.0.0.tar.gz /Library/Frameworks/R.framework/Resources/bin/R ReUseData.buildbin-libdir StartedAt: 2023-06-30 09:24:31 -0400 (Fri, 30 Jun 2023) EndedAt: 2023-06-30 09:25:26 -0400 (Fri, 30 Jun 2023) EllapsedTime: 54.3 seconds RetCode: 0 Status: OK PackageFile: ReUseData_1.0.0.tgz PackageFileSize: 1.382 MiB