Package: ReQON Version: 1.45.0 Command: /Library/Frameworks/R.framework/Resources/bin/R CMD check --install=check:ReQON.install-out.txt --library=/Library/Frameworks/R.framework/Resources/library --no-vignettes --timings ReQON_1.45.0.tar.gz StartedAt: 2023-03-16 05:47:21 -0400 (Thu, 16 Mar 2023) EndedAt: 2023-03-16 05:51:00 -0400 (Thu, 16 Mar 2023) EllapsedTime: 219.0 seconds RetCode: 0 Status: OK CheckDir: ReQON.Rcheck Warnings: 0