Package: ReQON Version: 1.46.0 Command: /Library/Frameworks/R.framework/Resources/bin/R CMD build --keep-empty-dirs --no-resave-data ReQON StartedAt: 2023-10-15 20:38:30 -0400 (Sun, 15 Oct 2023) EndedAt: 2023-10-15 20:38:33 -0400 (Sun, 15 Oct 2023) EllapsedTime: 2.1 seconds RetCode: 1 Status: ERROR PackageFile: None PackageFileSize: NA