Package: ReQON Version: 1.45.0 Command: rm -rf ReQON.buildbin-libdir && mkdir ReQON.buildbin-libdir && /Users/biocbuild/BBS/utils/build-universal.sh ReQON_1.45.0.tar.gz /Library/Frameworks/R.framework/Resources/bin/R ReQON.buildbin-libdir StartedAt: 2023-03-16 09:47:01 -0400 (Thu, 16 Mar 2023) EndedAt: 2023-03-16 09:47:46 -0400 (Thu, 16 Mar 2023) EllapsedTime: 45.0 seconds RetCode: 0 Status: OK PackageFile: ReQON_1.45.0.tgz PackageFileSize: 1.35 MiB