Package: Rdisop Version: 1.60.0 Command: F:\biocbuild\bbs-3.17-bioc\R\bin\R.exe CMD check --no-multiarch --install=check:Rdisop.install-out.txt --library=F:\biocbuild\bbs-3.17-bioc\R\library --no-vignettes --timings Rdisop_1.60.0.tar.gz StartedAt: 2023-10-16 05:45:52 -0400 (Mon, 16 Oct 2023) EndedAt: 2023-10-16 05:46:38 -0400 (Mon, 16 Oct 2023) EllapsedTime: 46.2 seconds RetCode: 0 Status: WARNINGS CheckDir: Rdisop.Rcheck Warnings: 1