Package: Rdisop Version: 1.60.0 Command: /Library/Frameworks/R.framework/Resources/bin/R CMD INSTALL Rdisop StartedAt: 2023-10-15 15:05:18 -0400 (Sun, 15 Oct 2023) EndedAt: 2023-10-15 15:06:45 -0400 (Sun, 15 Oct 2023) EllapsedTime: 87.6 seconds RetCode: 0 Status: OK