Package: Rdisop Version: 1.60.0 Command: /Library/Frameworks/R.framework/Resources/bin/R CMD check --install=check:Rdisop.install-out.txt --library=/Library/Frameworks/R.framework/Resources/library --no-vignettes --timings Rdisop_1.60.0.tar.gz StartedAt: 2023-10-16 05:52:35 -0400 (Mon, 16 Oct 2023) EndedAt: 2023-10-16 05:53:26 -0400 (Mon, 16 Oct 2023) EllapsedTime: 50.5 seconds RetCode: 0 Status: OK CheckDir: Rdisop.Rcheck Warnings: 0