Package: RcwlPipelines Version: 1.16.0 Command: /home/biocbuild/bbs-3.17-bioc/R/bin/R CMD check --install=check:RcwlPipelines.install-out.txt --library=/home/biocbuild/bbs-3.17-bioc/R/site-library --timings RcwlPipelines_1.16.0.tar.gz StartedAt: 2023-10-16 00:16:13 -0400 (Mon, 16 Oct 2023) EndedAt: 2023-10-16 00:18:21 -0400 (Mon, 16 Oct 2023) EllapsedTime: 127.9 seconds RetCode: 0 Status: OK CheckDir: RcwlPipelines.Rcheck Warnings: 0