Package: RcwlPipelines Version: 1.16.0 Command: /home/biocbuild/bbs-3.17-bioc/R/bin/R CMD build --keep-empty-dirs --no-resave-data RcwlPipelines StartedAt: 2023-10-15 18:08:00 -0400 (Sun, 15 Oct 2023) EndedAt: 2023-10-15 18:08:35 -0400 (Sun, 15 Oct 2023) EllapsedTime: 34.9 seconds RetCode: 0 Status: OK PackageFile: RcwlPipelines_1.16.0.tar.gz PackageFileSize: 877.9 KiB