Package: RcwlPipelines Version: 1.16.0 Command: /Library/Frameworks/R.framework/Resources/bin/R CMD build --keep-empty-dirs --no-resave-data RcwlPipelines StartedAt: 2023-10-15 20:34:28 -0400 (Sun, 15 Oct 2023) EndedAt: 2023-10-15 20:36:04 -0400 (Sun, 15 Oct 2023) EllapsedTime: 95.5 seconds RetCode: 0 Status: OK PackageFile: RcwlPipelines_1.16.0.tar.gz PackageFileSize: 877.8 KiB