Package: RcisTarget Version: 1.20.0 Command: /home/biocbuild/bbs-3.17-bioc/R/bin/R CMD INSTALL RcisTarget StartedAt: 2023-10-15 15:34:51 -0400 (Sun, 15 Oct 2023) EndedAt: 2023-10-15 15:35:28 -0400 (Sun, 15 Oct 2023) EllapsedTime: 37.9 seconds RetCode: 0 Status: OK