Package: RcisTarget Version: 1.20.0 Command: /home/biocbuild/bbs-3.17-bioc/R/bin/R CMD check --install=check:RcisTarget.install-out.txt --library=/home/biocbuild/bbs-3.17-bioc/R/site-library --timings RcisTarget_1.20.0.tar.gz StartedAt: 2023-10-16 00:15:40 -0400 (Mon, 16 Oct 2023) EndedAt: 2023-10-16 00:21:27 -0400 (Mon, 16 Oct 2023) EllapsedTime: 347.1 seconds RetCode: 1 Status: ERROR CheckDir: RcisTarget.Rcheck Warnings: NA