Package: RcisTarget Version: 1.20.0 Command: /home/biocbuild/bbs-3.17-bioc/R/bin/R CMD build --keep-empty-dirs --no-resave-data RcisTarget StartedAt: 2023-10-15 18:07:28 -0400 (Sun, 15 Oct 2023) EndedAt: 2023-10-15 18:08:48 -0400 (Sun, 15 Oct 2023) EllapsedTime: 79.7 seconds RetCode: 0 Status: OK PackageFile: RcisTarget_1.20.0.tar.gz PackageFileSize: 12.54 MiB