Package: Rbowtie2 Version: 2.6.0 Command: F:\biocbuild\bbs-3.17-bioc\R\bin\R.exe CMD check --no-multiarch --install=check:Rbowtie2.install-out.txt --library=F:\biocbuild\bbs-3.17-bioc\R\library --no-vignettes --timings Rbowtie2_2.6.0.tar.gz StartedAt: 2023-10-16 05:44:12 -0400 (Mon, 16 Oct 2023) EndedAt: 2023-10-16 05:44:52 -0400 (Mon, 16 Oct 2023) EllapsedTime: 40.2 seconds RetCode: 0 Status: OK CheckDir: Rbowtie2.Rcheck Warnings: 0