Package: Rbowtie2 Version: 2.6.0 Command: chmod a+r Rbowtie2 -R && F:\biocbuild\bbs-3.17-bioc\R\bin\R.exe CMD build --keep-empty-dirs --no-resave-data Rbowtie2 StartedAt: 2023-10-15 21:39:51 -0400 (Sun, 15 Oct 2023) EndedAt: 2023-10-15 21:45:12 -0400 (Sun, 15 Oct 2023) EllapsedTime: 321.5 seconds RetCode: 0 Status: OK PackageFile: Rbowtie2_2.6.0.tar.gz PackageFileSize: 1.709 MiB