Package: Rbowtie2 Version: 2.6.0 Command: rm -rf Rbowtie2.buildbin-libdir && mkdir Rbowtie2.buildbin-libdir && F:\biocbuild\bbs-3.17-bioc\R\bin\R.exe CMD INSTALL --build --library=Rbowtie2.buildbin-libdir Rbowtie2_2.6.0.tar.gz StartedAt: 2023-10-16 09:20:36 -0400 (Mon, 16 Oct 2023) EndedAt: 2023-10-16 09:26:43 -0400 (Mon, 16 Oct 2023) EllapsedTime: 366.8 seconds RetCode: 0 Status: OK PackageFile: Rbowtie2_2.6.0.zip PackageFileSize: 18.46 MiB