Package: Rbowtie2 Version: 2.6.0 Command: /home/biocbuild/bbs-3.17-bioc/R/bin/R CMD INSTALL Rbowtie2 StartedAt: 2023-10-15 15:17:27 -0400 (Sun, 15 Oct 2023) EndedAt: 2023-10-15 15:22:10 -0400 (Sun, 15 Oct 2023) EllapsedTime: 282.7 seconds RetCode: 0 Status: OK