Package: Rbowtie2 Version: 2.6.0 Command: /home/biocbuild/bbs-3.17-bioc/R/bin/R CMD check --install=check:Rbowtie2.install-out.txt --library=/home/biocbuild/bbs-3.17-bioc/R/site-library --timings Rbowtie2_2.6.0.tar.gz StartedAt: 2023-10-16 00:15:16 -0400 (Mon, 16 Oct 2023) EndedAt: 2023-10-16 00:15:43 -0400 (Mon, 16 Oct 2023) EllapsedTime: 27.2 seconds RetCode: 0 Status: OK CheckDir: Rbowtie2.Rcheck Warnings: 0